BEGIN:VCALENDAR
VERSION:2.0
PRODID:-//eventon.com NONSGML v1.0//EN
CALSCALE:GREGORIAN
METHOD:PUBLISH
BEGIN:VEVENT
UID:69ea18a34b9ec
DTSTAMP:20260423T130331Z
DTSTART:20260529T140000Z
DTEND:20260529T183000Z
LOCATION:
SUMMARY:Tardeo Àtic Viernes
DESCRIPTION:Tardeo en Àtic. Todos los viernes y sábados\nhttps://palauala
 meda.com/events/tardeo-atic-viernes-29-05/
URL:https://palaualameda.com/events/tardeo-atic-viernes-29-05/
END:VEVENT
END:VCALENDAR