BEGIN:VCALENDAR
VERSION:2.0
PRODID:-//eventon.com NONSGML v1.0//EN
CALSCALE:GREGORIAN
METHOD:PUBLISH
BEGIN:VEVENT
UID:69ed228c183c2
DTSTAMP:20260425T202236Z
DTSTART:20260528T183000Z
DTEND:20260528T215900Z
LOCATION:Palau Alameda: La Sala Carrer de Muñoz Seca\,  2\,  46010 València\,  Valencia
SUMMARY:Concierto de LA ÉLITE + BAKANEO en Valencia
DESCRIPTION:CIRCUIT A BANDA: LA ÉLITE + BAKANEO en Valencia &nbsp; El pró
 ximo Jueves 28 de Mayo de 2026 en Palau Alameda\,  LA ÉLITE + BAKANEO\,  E
 N CONCIERTO. &nbsp; Apertura de puertas: 20:30h Inicio: 21:30h\nhttps://pal
 aualameda.com/events/concierto-de-la-elite-y-bakaneo-en-valencia/
URL:https://palaualameda.com/events/concierto-de-la-elite-y-bakaneo-en-valencia/
END:VEVENT
END:VCALENDAR