BEGIN:VCALENDAR
VERSION:2.0
PRODID:-//eventon.com NONSGML v1.0//EN
CALSCALE:GREGORIAN
METHOD:PUBLISH
BEGIN:VEVENT
UID:69ed201212d77
DTSTAMP:20260425T201202Z
DTSTART:20260510T100000Z
DTEND:20260510T215900Z
LOCATION:Palau Alameda: La Sala Carrer de Muñoz Seca\,  2\,  46010 València\,  Valencia
SUMMARY:Concierto de SANTERO Y LOS MUCHACHOS en Valencia
DESCRIPTION:SALÓN SANTERO: SANTERO Y LOS MUCHACHOS en Valencia &nbsp; El 
 próximo Domingo 10 de Mayo de 2026 en Palau Alameda\,  SALÓN SANTERO: SAN
 TERO Y LOS MUCHACHOS\,  EN CONCIERTO. Concierto a trío y en acústico. Tra
 s su extensa gira en eléctrico\,  Santero busca espacios de aforo muy redu
 cido donde sentir la cercanía[..]\nhttps://palaualameda.com/events/concier
 to-de-santero-y-los-muchachos-en-valencia/
URL:https://palaualameda.com/events/concierto-de-santero-y-los-muchachos-en-valencia/
END:VEVENT
END:VCALENDAR