BEGIN:VCALENDAR
VERSION:2.0
PRODID:-//eventon.com NONSGML v1.0//EN
CALSCALE:GREGORIAN
METHOD:PUBLISH
BEGIN:VEVENT
UID:69e500311a21d
DTSTAMP:20260419T161753Z
DTSTART:20260722T153000Z
DTEND:20260722T191100Z
LOCATION:Palau Alameda: Àtic Carrer de Muñoz Seca\,  2\,  46010 València\,  Valencia
SUMMARY:Coctelería Canalla
DESCRIPTION:Coctelería Canalla\nhttps://palaualameda.com/events/cocteleria
 -canalla/var/ri-177.l-L1
URL:https://palaualameda.com/events/cocteleria-canalla/var/ri-177.l-L1
END:VEVENT
END:VCALENDAR