BEGIN:VCALENDAR
VERSION:2.0
PRODID:-//eventon.com NONSGML v1.0//EN
CALSCALE:GREGORIAN
METHOD:PUBLISH
BEGIN:VEVENT
UID:69e6cf6d257f4
DTSTAMP:20260421T011421Z
DTSTART:20261202T163000Z
DTEND:20261202T201100Z
LOCATION:Palau Alameda: Àtic Carrer de Muñoz Seca\,  2\,  46010 València\,  Valencia
SUMMARY:Coctelería Canalla
DESCRIPTION:Coctelería Canalla\nhttps://palaualameda.com/events/cocteleria
 -canalla/var/ri-196.l-L1
URL:https://palaualameda.com/events/cocteleria-canalla/var/ri-196.l-L1
END:VEVENT
END:VCALENDAR