BEGIN:VCALENDAR
VERSION:2.0
PRODID:-//eventon.com NONSGML v1.0//EN
CALSCALE:GREGORIAN
METHOD:PUBLISH
BEGIN:VEVENT
UID:69e812e9a9f76
DTSTAMP:20260422T001433Z
DTSTART:20270310T163000Z
DTEND:20270310T201100Z
LOCATION:Palau Alameda: Àtic Carrer de Muñoz Seca\,  2\,  46010 València\,  Valencia
SUMMARY:Coctelería Canalla
DESCRIPTION:Coctelería Canalla\nhttps://palaualameda.com/events/cocteleria
 -canalla/var/ri-210.l-L1
URL:https://palaualameda.com/events/cocteleria-canalla/var/ri-210.l-L1
END:VEVENT
END:VCALENDAR