BEGIN:VCALENDAR
VERSION:2.0
PRODID:-//eventon.com NONSGML v1.0//EN
CALSCALE:GREGORIAN
METHOD:PUBLISH
BEGIN:VEVENT
UID:69eb2a9a5910a
DTSTAMP:20260424T083226Z
DTSTART:20271124T163000Z
DTEND:20271124T201100Z
LOCATION:Palau Alameda: Àtic Carrer de Muñoz Seca\,  2\,  46010 València\,  Valencia
SUMMARY:Coctelería Canalla
DESCRIPTION:Coctelería Canalla\nhttps://palaualameda.com/events/cocteleria
 -canalla/var/ri-247.l-L1
URL:https://palaualameda.com/events/cocteleria-canalla/var/ri-247.l-L1
END:VEVENT
END:VCALENDAR