BEGIN:VCALENDAR
VERSION:2.0
PRODID:-//eventon.com NONSGML v1.0//EN
CALSCALE:GREGORIAN
METHOD:PUBLISH
BEGIN:VEVENT
UID:69ec10ec39e08
DTSTAMP:20260425T005508Z
DTSTART:20280202T163000Z
DTEND:20280202T201100Z
LOCATION:Palau Alameda: Àtic Carrer de Muñoz Seca\,  2\,  46010 València\,  Valencia
SUMMARY:Coctelería Canalla
DESCRIPTION:Coctelería Canalla\nhttps://palaualameda.com/events/cocteleria
 -canalla/var/ri-257.l-L1
URL:https://palaualameda.com/events/cocteleria-canalla/var/ri-257.l-L1
END:VEVENT
END:VCALENDAR