BEGIN:VCALENDAR
VERSION:2.0
PRODID:-//eventon.com NONSGML v1.0//EN
CALSCALE:GREGORIAN
METHOD:PUBLISH
BEGIN:VEVENT
UID:69ed209eafea2
DTSTAMP:20260425T201422Z
DTSTART:20280426T153000Z
DTEND:20280426T191100Z
LOCATION:Palau Alameda: Àtic Carrer de Muñoz Seca\,  2\,  46010 València\,  Valencia
SUMMARY:Coctelería Canalla
DESCRIPTION:Coctelería Canalla\nhttps://palaualameda.com/events/cocteleria
 -canalla/var/ri-269.l-L1
URL:https://palaualameda.com/events/cocteleria-canalla/var/ri-269.l-L1
END:VEVENT
END:VCALENDAR